BEGIN:VCALENDAR
VERSION:2.0
PRODID:-//Baltimore-DC Metro Building Trades Council - ECPv6.15.20//NONSGML v1.0//EN
CALSCALE:GREGORIAN
METHOD:PUBLISH
X-ORIGINAL-URL:https://bdcbt.org
X-WR-CALDESC:Events for Baltimore-DC Metro Building Trades Council
REFRESH-INTERVAL;VALUE=DURATION:PT1H
X-Robots-Tag:noindex
X-PUBLISHED-TTL:PT1H
BEGIN:VTIMEZONE
TZID:America/New_York
BEGIN:DAYLIGHT
TZOFFSETFROM:-0500
TZOFFSETTO:-0400
TZNAME:EDT
DTSTART:20240310T070000
END:DAYLIGHT
BEGIN:STANDARD
TZOFFSETFROM:-0400
TZOFFSETTO:-0500
TZNAME:EST
DTSTART:20241103T060000
END:STANDARD
BEGIN:DAYLIGHT
TZOFFSETFROM:-0500
TZOFFSETTO:-0400
TZNAME:EDT
DTSTART:20250309T070000
END:DAYLIGHT
BEGIN:STANDARD
TZOFFSETFROM:-0400
TZOFFSETTO:-0500
TZNAME:EST
DTSTART:20251102T060000
END:STANDARD
BEGIN:DAYLIGHT
TZOFFSETFROM:-0500
TZOFFSETTO:-0400
TZNAME:EDT
DTSTART:20260308T070000
END:DAYLIGHT
BEGIN:STANDARD
TZOFFSETFROM:-0400
TZOFFSETTO:-0500
TZNAME:EST
DTSTART:20261101T060000
END:STANDARD
END:VTIMEZONE
BEGIN:VEVENT
DTSTART;TZID=America/New_York:20250424T170000
DTEND;TZID=America/New_York:20250424T180000
DTSTAMP:20260423T071248
CREATED:20250325T212530Z
LAST-MODIFIED:20250325T212602Z
UID:10000286-1745514000-1745517600@bdcbt.org
SUMMARY:Building Trades' Workers Memorial Mass
DESCRIPTION:The Building Trades’ Workers Memorial Mass is a time of remembrance for those workers who were killed or injured on the jobsite. The Mass will be led by Labor Priest Father Brian Jordan. ALL ARE INVITED including rank-and-file members\, safety personnel\, union leaders\, family\, friends\, and elected officials.
URL:https://bdcbt.org/event/building-trades-workers-memorial-mass/
LOCATION:St. Camillus Church\, 1600 St Camillus Dr.\, Silver Spring\, Maryland\, 20903
ATTACH;FMTTYPE=image/webp:https://bdcbt.org/wp-content/uploads/2025/03/Building-Trades-Workers-Memorial-Mass.webp
END:VEVENT
END:VCALENDAR