BEGIN:VCALENDAR
VERSION:2.0
PRODID:-//Baltimore-DC Metro Building Trades Council - ECPv6.15.20//NONSGML v1.0//EN
CALSCALE:GREGORIAN
METHOD:PUBLISH
X-WR-CALNAME:Baltimore-DC Metro Building Trades Council
X-ORIGINAL-URL:https://bdcbt.org
X-WR-CALDESC:Events for Baltimore-DC Metro Building Trades Council
REFRESH-INTERVAL;VALUE=DURATION:PT1H
X-Robots-Tag:noindex
X-PUBLISHED-TTL:PT1H
BEGIN:VTIMEZONE
TZID:America/New_York
BEGIN:DAYLIGHT
TZOFFSETFROM:-0500
TZOFFSETTO:-0400
TZNAME:EDT
DTSTART:20240310T070000
END:DAYLIGHT
BEGIN:STANDARD
TZOFFSETFROM:-0400
TZOFFSETTO:-0500
TZNAME:EST
DTSTART:20241103T060000
END:STANDARD
BEGIN:DAYLIGHT
TZOFFSETFROM:-0500
TZOFFSETTO:-0400
TZNAME:EDT
DTSTART:20250309T070000
END:DAYLIGHT
BEGIN:STANDARD
TZOFFSETFROM:-0400
TZOFFSETTO:-0500
TZNAME:EST
DTSTART:20251102T060000
END:STANDARD
BEGIN:DAYLIGHT
TZOFFSETFROM:-0500
TZOFFSETTO:-0400
TZNAME:EDT
DTSTART:20260308T070000
END:DAYLIGHT
BEGIN:STANDARD
TZOFFSETFROM:-0400
TZOFFSETTO:-0500
TZNAME:EST
DTSTART:20261101T060000
END:STANDARD
END:VTIMEZONE
BEGIN:VEVENT
DTSTART;TZID=America/New_York:20251027T180000
DTEND;TZID=America/New_York:20251027T200000
DTSTAMP:20260422T234812
CREATED:20251023T204048Z
LAST-MODIFIED:20251023T204436Z
UID:10000354-1761588000-1761595200@bdcbt.org
SUMMARY:'The Apprenticeship That Saved My Life' Discussion + Q&A
DESCRIPTION:Interested in mentorship\, skilled trades & second chances? Join IBEW Local 24 Journeyman and MD State Senator @corymccray this coming Monday @ MCPL for storytelling & inspiration. \n\n\n\nThe Apprenticeship That Saved My Life\nRockville Memorial Library\n Monday\, 10/27\n 6-8 pm\n\n\n\nREGISTER: https://mcpl.link/Senator-McCray \n\n\n\n\nBring your questions! The session will include a discussion\, audience Q&A\, and reflections on how communities can build stronger pathways for the next generation. \nSen. McCray will be signing his autobiography\, The Apprenticeship That Saved My Life. The book will be available at the event for purchase from Friends of the Library\, Montgomery County\, Inc. (FOLMC).
URL:https://bdcbt.org/event/the-apprenticeship-that-saved-my-life-discussion-qa/
LOCATION:Rockville Memorial Library\, 21 Maryland Avenue\, Rockville\, MD\, 20850\, United States
ATTACH;FMTTYPE=image/webp:https://bdcbt.org/wp-content/uploads/2025/10/Sen-McCray-@-Rockville-Library.webp
END:VEVENT
END:VCALENDAR