BEGIN:VCALENDAR
VERSION:2.0
PRODID:-//Baltimore-DC Metro Building Trades Council - ECPv6.15.20//NONSGML v1.0//EN
CALSCALE:GREGORIAN
METHOD:PUBLISH
X-WR-CALNAME:Baltimore-DC Metro Building Trades Council
X-ORIGINAL-URL:https://bdcbt.org
X-WR-CALDESC:Events for Baltimore-DC Metro Building Trades Council
REFRESH-INTERVAL;VALUE=DURATION:PT1H
X-Robots-Tag:noindex
X-PUBLISHED-TTL:PT1H
BEGIN:VTIMEZONE
TZID:America/New_York
BEGIN:DAYLIGHT
TZOFFSETFROM:-0500
TZOFFSETTO:-0400
TZNAME:EDT
DTSTART:20240310T070000
END:DAYLIGHT
BEGIN:STANDARD
TZOFFSETFROM:-0400
TZOFFSETTO:-0500
TZNAME:EST
DTSTART:20241103T060000
END:STANDARD
BEGIN:DAYLIGHT
TZOFFSETFROM:-0500
TZOFFSETTO:-0400
TZNAME:EDT
DTSTART:20250309T070000
END:DAYLIGHT
BEGIN:STANDARD
TZOFFSETFROM:-0400
TZOFFSETTO:-0500
TZNAME:EST
DTSTART:20251102T060000
END:STANDARD
BEGIN:DAYLIGHT
TZOFFSETFROM:-0500
TZOFFSETTO:-0400
TZNAME:EDT
DTSTART:20260308T070000
END:DAYLIGHT
BEGIN:STANDARD
TZOFFSETFROM:-0400
TZOFFSETTO:-0500
TZNAME:EST
DTSTART:20261101T060000
END:STANDARD
END:VTIMEZONE
BEGIN:VEVENT
DTSTART;TZID=America/New_York:20250404T100000
DTEND;TZID=America/New_York:20250404T113000
DTSTAMP:20260423T182413
CREATED:20250403T213227Z
LAST-MODIFIED:20250403T214725Z
UID:10000294-1743760800-1743766200@bdcbt.org
SUMMARY:RALLY: Support Kilmar Armando Abrego Garcia and his family
DESCRIPTION:Rally to support SMART Local 100 apprentice Kilmar Armando Abrego Garcia and his family! Ahead of a hearing to be held Friday afternoon in federal court\, join SMART members\, community supporters and Kilmar’s family to demand his right to due process. \n\nTime: Rally starts at 10 a.m.\nLocation: CASA HQ – 8151 15th St.\, Langley Park\, MD 20783\n\nCourt Attendance: \n\nAfter the rally\, attendees will drive (10 minutes) to the courthouse.\nGoal: Arrive by 12:30 p.m. to ensure entry.\n\nMore details and to RSVP > 
URL:https://bdcbt.org/event/rally-support-kilmar-armando-abrego-garcia-and-his-family/
LOCATION:CASA\, 8151 15th St.\, Langley Park\, MD\, 20783
ATTACH;FMTTYPE=image/jpeg:https://bdcbt.org/wp-content/uploads/2025/04/489118638_1065762212253721_6636632184119428848_n.jpg
END:VEVENT
END:VCALENDAR