BEGIN:VCALENDAR
VERSION:2.0
PRODID:-//Baltimore-DC Metro Building Trades Council - ECPv6.15.20//NONSGML v1.0//EN
CALSCALE:GREGORIAN
METHOD:PUBLISH
X-WR-CALNAME:Baltimore-DC Metro Building Trades Council
X-ORIGINAL-URL:https://bdcbt.org
X-WR-CALDESC:Events for Baltimore-DC Metro Building Trades Council
REFRESH-INTERVAL;VALUE=DURATION:PT1H
X-Robots-Tag:noindex
X-PUBLISHED-TTL:PT1H
BEGIN:VTIMEZONE
TZID:America/New_York
BEGIN:DAYLIGHT
TZOFFSETFROM:-0500
TZOFFSETTO:-0400
TZNAME:EDT
DTSTART:20240310T070000
END:DAYLIGHT
BEGIN:STANDARD
TZOFFSETFROM:-0400
TZOFFSETTO:-0500
TZNAME:EST
DTSTART:20241103T060000
END:STANDARD
BEGIN:DAYLIGHT
TZOFFSETFROM:-0500
TZOFFSETTO:-0400
TZNAME:EDT
DTSTART:20250309T070000
END:DAYLIGHT
BEGIN:STANDARD
TZOFFSETFROM:-0400
TZOFFSETTO:-0500
TZNAME:EST
DTSTART:20251102T060000
END:STANDARD
BEGIN:DAYLIGHT
TZOFFSETFROM:-0500
TZOFFSETTO:-0400
TZNAME:EDT
DTSTART:20260308T070000
END:DAYLIGHT
BEGIN:STANDARD
TZOFFSETFROM:-0400
TZOFFSETTO:-0500
TZNAME:EST
DTSTART:20261101T060000
END:STANDARD
END:VTIMEZONE
BEGIN:VEVENT
DTSTART;TZID=America/New_York:20250430T100000
DTEND;TZID=America/New_York:20250430T160000
DTSTAMP:20260423T012851
CREATED:20250421T181150Z
LAST-MODIFIED:20250421T181444Z
UID:10000299-1746007200-1746028800@bdcbt.org
SUMMARY:Apprenticeship Fest 2025: Build Your Future
DESCRIPTION:Looking for apprenticeships and pre-apprenticeship hands-on career opportunities? \nJoin us April 30 for the “Apprenticeship Fest 2025: Build Your Future” event located at the Building Trades Center in Lanham\, MD. \nExplore diverse apprenticeship opportunities\, an IT apprenticeship track\, a technology simulation room\, industry resource kits\, and much more. Connect with top apprenticeship providers\, discover hands-on career pathways\, and network with industry leaders. \nThe youth session runs from 10 AM to 1 PM\, followed by the public session from 2 PM to 4 PM. Turn your passion into a profession! \nRegister today: tinyurl.com/AIPFest430
URL:https://bdcbt.org/event/apprenticeship-fest-2025-build-your-future/
LOCATION:Building Trades Center\, 4700 Boston Way\, Lanham\, MD\, 20706
ATTACH;FMTTYPE=image/jpeg:https://bdcbt.org/wp-content/uploads/2025/04/491773548_404457262762340_3093318202511184328_n.jpg
END:VEVENT
END:VCALENDAR