BEGIN:VCALENDAR
VERSION:2.0
PRODID:-//Baltimore-DC Metro Building Trades Council - ECPv6.15.20//NONSGML v1.0//EN
CALSCALE:GREGORIAN
METHOD:PUBLISH
X-WR-CALNAME:Baltimore-DC Metro Building Trades Council
X-ORIGINAL-URL:https://bdcbt.org
X-WR-CALDESC:Events for Baltimore-DC Metro Building Trades Council
REFRESH-INTERVAL;VALUE=DURATION:PT1H
X-Robots-Tag:noindex
X-PUBLISHED-TTL:PT1H
BEGIN:VTIMEZONE
TZID:America/New_York
BEGIN:DAYLIGHT
TZOFFSETFROM:-0500
TZOFFSETTO:-0400
TZNAME:EDT
DTSTART:20240310T070000
END:DAYLIGHT
BEGIN:STANDARD
TZOFFSETFROM:-0400
TZOFFSETTO:-0500
TZNAME:EST
DTSTART:20241103T060000
END:STANDARD
BEGIN:DAYLIGHT
TZOFFSETFROM:-0500
TZOFFSETTO:-0400
TZNAME:EDT
DTSTART:20250309T070000
END:DAYLIGHT
BEGIN:STANDARD
TZOFFSETFROM:-0400
TZOFFSETTO:-0500
TZNAME:EST
DTSTART:20251102T060000
END:STANDARD
BEGIN:DAYLIGHT
TZOFFSETFROM:-0500
TZOFFSETTO:-0400
TZNAME:EDT
DTSTART:20260308T070000
END:DAYLIGHT
BEGIN:STANDARD
TZOFFSETFROM:-0400
TZOFFSETTO:-0500
TZNAME:EST
DTSTART:20261101T060000
END:STANDARD
END:VTIMEZONE
BEGIN:VEVENT
DTSTART;TZID=America/New_York:20250404T160000
DTEND;TZID=America/New_York:20250404T170000
DTSTAMP:20260423T163537
CREATED:20250403T165651Z
LAST-MODIFIED:20250403T170520Z
UID:10000291-1743782400-1743786000@bdcbt.org
SUMMARY:#LetUsWork Rally to Save Our Services
DESCRIPTION:  \nJoin the Federal Unionists Network (FUN) & allies for a rally as we fight back against the illegal firings of federal workers and call on the public to support the fight to protect the critical services federal workers provide. \nThis is not just about our jobs\, this is about protecting ALL workers’ rights and access to health\, education\, housing\, and wellbeing for the American public. \nRSVP today >
URL:https://bdcbt.org/event/letuswork-rally-to-save-our-services/
LOCATION:Baltimore Penn Station\, 1500 N Charles St.\, Baltimore\, MD\, 21218
ATTACH;FMTTYPE=image/webp:https://bdcbt.org/wp-content/uploads/2025/04/Let_Us_Work_Flyer.webp
END:VEVENT
END:VCALENDAR