BEGIN:VCALENDAR
VERSION:2.0
PRODID:-//Baltimore-DC Metro Building Trades Council - ECPv6.15.20//NONSGML v1.0//EN
CALSCALE:GREGORIAN
METHOD:PUBLISH
X-ORIGINAL-URL:https://bdcbt.org
X-WR-CALDESC:Events for Baltimore-DC Metro Building Trades Council
REFRESH-INTERVAL;VALUE=DURATION:PT1H
X-Robots-Tag:noindex
X-PUBLISHED-TTL:PT1H
BEGIN:VTIMEZONE
TZID:America/New_York
BEGIN:DAYLIGHT
TZOFFSETFROM:-0500
TZOFFSETTO:-0400
TZNAME:EDT
DTSTART:20240310T070000
END:DAYLIGHT
BEGIN:STANDARD
TZOFFSETFROM:-0400
TZOFFSETTO:-0500
TZNAME:EST
DTSTART:20241103T060000
END:STANDARD
BEGIN:DAYLIGHT
TZOFFSETFROM:-0500
TZOFFSETTO:-0400
TZNAME:EDT
DTSTART:20250309T070000
END:DAYLIGHT
BEGIN:STANDARD
TZOFFSETFROM:-0400
TZOFFSETTO:-0500
TZNAME:EST
DTSTART:20251102T060000
END:STANDARD
BEGIN:DAYLIGHT
TZOFFSETFROM:-0500
TZOFFSETTO:-0400
TZNAME:EDT
DTSTART:20260308T070000
END:DAYLIGHT
BEGIN:STANDARD
TZOFFSETFROM:-0400
TZOFFSETTO:-0500
TZNAME:EST
DTSTART:20261101T060000
END:STANDARD
END:VTIMEZONE
BEGIN:VEVENT
DTSTART;TZID=America/New_York:20251206T110000
DTEND;TZID=America/New_York:20251206T110000
DTSTAMP:20260422T214701
CREATED:20251120T202945Z
LAST-MODIFIED:20251120T204652Z
UID:10000375-1765018800-1765018800@bdcbt.org
SUMMARY:DMV Tradeswomen Holiday Party
DESCRIPTION:Come join IUPAT DC51 members for a joyful holiday celebration filled with family fun\, festive games\, holiday treats\, and a special hands-on activity where your child can build their very own glass Christmas tree! \nDate: December 6\, 2025\nLocation: IUPAT DC51 4700 Boston Way\, Lanham\, MD\nStart Time: 11 AM\nRegister here: https://go.iupat.org/6L3Paq \nBring your family\, your holiday spirit\, and let’s make memories together! *Free Event**SPACE IS LIMITED!* \n¡Únete a los miembros de IUPAT DC51 para una alegre celebración navideña llena de diversión familiar\, juegos festivos\, dulces navideños y una actividad especial donde tu hijo podrá construir su propio árbol de Navidad de cristal! \nFecha: 6 de diciembre de 2025\nLugar: 4700 Boston Way\, Lanham\, MD\nHora de inicio: 11:00 a. m.\nRegístrate aquí: https://go.iupat.org/6L3Paq \n\n¡Trae a tu familia\, tu espíritu navideño y creemos recuerdos juntos! * Evento gratuito** El espacio es limitado.*
URL:https://bdcbt.org/event/dmv-tradeswomen-holiday-party/
LOCATION:IUPAT DC51\, 4700 Boston Way\, Lanham\, MD\, 20706\, United States
ATTACH;FMTTYPE=image/webp:https://bdcbt.org/wp-content/uploads/2025/11/587524579_17974572119954158_7973138157438597770_n-copy-1.webp
ORGANIZER;CN="DMV Tradeswomen":MAILTO:hello@dccluw.org
END:VEVENT
BEGIN:VEVENT
DTSTART;TZID=America/New_York:20250816T110000
DTEND;TZID=America/New_York:20250816T140000
DTSTAMP:20260422T214701
CREATED:20250811T155718Z
LAST-MODIFIED:20250811T160116Z
UID:10000335-1755342000-1755352800@bdcbt.org
SUMMARY:Through the Looking Glass: Glass That Glows\, a Trade That Grows
DESCRIPTION:Join us for a magical day where curiosity meets craftsmanship! Kids will explore the world of glass with two incredible tradeswomen; a glazier and a glassblower who will share their tools\, stories and skills. | ¡Acompáñanos en un día mágico donde la curiosidad se encuentra con la artesanía! Los niños explorarán el mundo del vidrio con dos increíbles mujeres en los oficios: una acristaladora y una sopladora de vidrio\, quienes compartirán sus herramientas\, historias y habilidades. \nRSVP and register > \nIMPORTANT NOTICE | AVISO IMPORTANTE \nPlease note that the event will begin promptly at 11:00 AM\, and it is highly recommended that all attendees arrive no later than 11:30 AM. | Tenga en cuenta que el evento comenzará puntualmente a las 11:00 a. m. y se recomienda encarecidamente que todos los asistentes lleguen no más tarde de las 11:30 a. m.\n\nArriving after this time may result in missing key demonstrations and important activities. To ensure you receive the full experience of the day\, we strongly encourage you to arrive on time. | Si llega después de esta hora\, podría perderse demostraciones clave y actividades importantes. Para garantizar que disfrute al máximo de la experiencia del día\, le recomendamos encarecidamente que llegue puntual.
URL:https://bdcbt.org/event/through-the-looking-glass-glass-that-glows-a-trade-that-grows/
LOCATION:Painters DC 51\, 4700 Boston Way\, Lanham\, MD\, 20706
ATTACH;FMTTYPE=image/jpeg:https://bdcbt.org/wp-content/uploads/2025/08/Through-the-Looking-Glass.jpg
ORGANIZER;CN="DMV Tradeswomen":MAILTO:hello@dccluw.org
END:VEVENT
END:VCALENDAR