BEGIN:VCALENDAR
VERSION:2.0
PRODID:-//Baltimore-DC Metro Building Trades Council - ECPv6.15.20//NONSGML v1.0//EN
CALSCALE:GREGORIAN
METHOD:PUBLISH
X-WR-CALNAME:Baltimore-DC Metro Building Trades Council
X-ORIGINAL-URL:https://bdcbt.org
X-WR-CALDESC:Events for Baltimore-DC Metro Building Trades Council
REFRESH-INTERVAL;VALUE=DURATION:PT1H
X-Robots-Tag:noindex
X-PUBLISHED-TTL:PT1H
BEGIN:VTIMEZONE
TZID:America/New_York
BEGIN:DAYLIGHT
TZOFFSETFROM:-0500
TZOFFSETTO:-0400
TZNAME:EDT
DTSTART:20240310T070000
END:DAYLIGHT
BEGIN:STANDARD
TZOFFSETFROM:-0400
TZOFFSETTO:-0500
TZNAME:EST
DTSTART:20241103T060000
END:STANDARD
BEGIN:DAYLIGHT
TZOFFSETFROM:-0500
TZOFFSETTO:-0400
TZNAME:EDT
DTSTART:20250309T070000
END:DAYLIGHT
BEGIN:STANDARD
TZOFFSETFROM:-0400
TZOFFSETTO:-0500
TZNAME:EST
DTSTART:20251102T060000
END:STANDARD
BEGIN:DAYLIGHT
TZOFFSETFROM:-0500
TZOFFSETTO:-0400
TZNAME:EDT
DTSTART:20260308T070000
END:DAYLIGHT
BEGIN:STANDARD
TZOFFSETFROM:-0400
TZOFFSETTO:-0500
TZNAME:EST
DTSTART:20261101T060000
END:STANDARD
END:VTIMEZONE
BEGIN:VEVENT
DTSTART;VALUE=DATE:20251020
DTEND;VALUE=DATE:20251126
DTSTAMP:20260423T013659
CREATED:20251120T193206Z
LAST-MODIFIED:20251120T194325Z
UID:10000374-1760918400-1764115199@bdcbt.org
SUMMARY:Community Services 2025 Holiday Basket Donations
DESCRIPTION:Community Services of Central Maryland’s Annual Holiday Baskets Giveaway is fast approaching. Help support union members in need this holiday season by showing your solidarity. \nToys and non-perishable food items can be donated at the Metro Baltimore Council office at 2701 W. Patapsco Ave.\, Suite #110\, Baltimore\, MD 21230. Office hours are from 9am to 5pm. \nFor monetary donations\, checks can be made out to: AFL-CIO Community Services of Central MD\, earmarked “Food Pantry.” \nQuestions? Contact William Parks at 443-500-8081 or wparks@mbalfcio.org
URL:https://bdcbt.org/event/community-services-2025-holiday-basket-donations/
LOCATION:Metropolitan Baltimore Council\, AFL-CIO\, 2701 W. Patapsco Ave.\, Suite #110\, Baltimore\, MD\, 21230\, United States
ATTACH;FMTTYPE=image/webp:https://bdcbt.org/wp-content/uploads/2025/11/Save-the-Season-.webp
ORGANIZER;CN="Community Services Agency":MAILTO:csa@dclabor.org
END:VEVENT
BEGIN:VEVENT
DTSTART;TZID=America/New_York:20250202T040000
DTEND;TZID=America/New_York:20250202T103000
DTSTAMP:20260423T013659
CREATED:20250115T024203Z
LAST-MODIFIED:20250115T054911Z
UID:10000279-1738468800-1738492200@bdcbt.org
SUMMARY:2025 Bowling for Gold tournament
DESCRIPTION:Have fun with your union siblings\, family and friends while helping to raise money for the Community Services Agency and its Emergency Assistance Fund for working families in need! \nOrganize your five-person team and submit your Team Registration form to register. The tournament registration fee of $30 per person covers the cost of three games as well as shoe rental. Pledges beyond the registration fee are encouraged! Use the pledge form included in the registration packet to let us know what you pledge to donate per pin knocked door or for the tournament as a whole. \nPlease make checks payable to: Community Services Agency\, MWC AFL-CIO. Registration forms may be returned by email to csa@dclabor.org\, or by mail to: Community Services Agency\, 815 Black Lives Matter Plaza NW\, Suite 1100\, Washington\, DC 20006.
URL:https://bdcbt.org/event/2025-bowling-for-gold-tournament/
LOCATION:Crofton Bowling Centre\, 2115 Priest Bridge Drive\, Crofton\, MD\, 21114\, United States
ATTACH;FMTTYPE=image/png:https://bdcbt.org/wp-content/uploads/2025/01/forGold1.png
ORGANIZER;CN="Community Services Agency":MAILTO:csa@dclabor.org
END:VEVENT
END:VCALENDAR