BEGIN:VCALENDAR
VERSION:2.0
PRODID:-//Baltimore-DC Metro Building Trades Council - ECPv6.15.20//NONSGML v1.0//EN
CALSCALE:GREGORIAN
METHOD:PUBLISH
X-ORIGINAL-URL:https://bdcbt.org
X-WR-CALDESC:Events for Baltimore-DC Metro Building Trades Council
REFRESH-INTERVAL;VALUE=DURATION:PT1H
X-Robots-Tag:noindex
X-PUBLISHED-TTL:PT1H
BEGIN:VTIMEZONE
TZID:America/New_York
BEGIN:DAYLIGHT
TZOFFSETFROM:-0500
TZOFFSETTO:-0400
TZNAME:EDT
DTSTART:20240310T070000
END:DAYLIGHT
BEGIN:STANDARD
TZOFFSETFROM:-0400
TZOFFSETTO:-0500
TZNAME:EST
DTSTART:20241103T060000
END:STANDARD
BEGIN:DAYLIGHT
TZOFFSETFROM:-0500
TZOFFSETTO:-0400
TZNAME:EDT
DTSTART:20250309T070000
END:DAYLIGHT
BEGIN:STANDARD
TZOFFSETFROM:-0400
TZOFFSETTO:-0500
TZNAME:EST
DTSTART:20251102T060000
END:STANDARD
BEGIN:DAYLIGHT
TZOFFSETFROM:-0500
TZOFFSETTO:-0400
TZNAME:EDT
DTSTART:20260308T070000
END:DAYLIGHT
BEGIN:STANDARD
TZOFFSETFROM:-0400
TZOFFSETTO:-0500
TZNAME:EST
DTSTART:20261101T060000
END:STANDARD
END:VTIMEZONE
BEGIN:VEVENT
DTSTART;TZID=America/New_York:20251206T100000
DTEND;TZID=America/New_York:20251206T100000
DTSTAMP:20260422T215010
CREATED:20251106T184913Z
LAST-MODIFIED:20251106T185124Z
UID:10000356-1765015200-1765015200@bdcbt.org
SUMMARY:Raising the Bar Apprenticeship Readiness Info Session
DESCRIPTION:Want to learn a union trade?\nJoin us for a Raising the Bar info session Dec. 6 @10am at LiUNA Local 710\, 3200 Wilkens Ave\, Baltimore\, MD 21229. \nRegister for the session at:\nhttps://bdcbt.org/rtb \nRaising the Bar is the Baltimore-D.C. Metro Building Trades’ six-week apprenticeship readiness program. With classes offered Monday through Friday\, 8am-4:30pm\, Raising the BAR invests in the next generation of union construction workers. This program offers a ladder of opportunity to the middle class for participants and their families through the union construction trades. \n\n\nNEXT BALTIMORE SESSION classes start Feb. 2\, 2026.
URL:https://bdcbt.org/event/raising-the-bar-apprenticeship-readiness-info-session/
LOCATION:LiUNA Local 710\, 3200 Wilkens Ave.\, Baltimore\, MD\, 21229\, United States
ATTACH;FMTTYPE=image/jpeg:https://bdcbt.org/wp-content/uploads/2025/11/572161918_1404765484429900_5473962464122825208_n.jpeg
ORGANIZER;CN="Baltimore-DC Metro Building Trades Council":MAILTO:admin@bdcbt.org
END:VEVENT
BEGIN:VEVENT
DTSTART;TZID=America/New_York:20250618T083000
DTEND;TZID=America/New_York:20250618T100000
DTSTAMP:20260422T215010
CREATED:20250615T123019Z
LAST-MODIFIED:20250615T233713Z
UID:10000312-1750235400-1750240800@bdcbt.org
SUMMARY:Rally Against Mayor Bowser's 'Big Beautiful Budget'
DESCRIPTION:D.C. Mayor Muriel Bowser has proposed spending nearly $1 billion in D.C. taxpayer money to help the Commanders build a new RFK stadium\, plus nearby planned hotels and restaurants. Unfortunately\, she also wants to discontinue D.C.’s project labor agreement (PLA) law\, gutting what has been accepted public policy for more than a decade.  \nJust two years ago\, the D.C. Council voted to lower the PLA threshold from $75 million to $50 million. Her proposal would result in fewer good union jobs at D.C. construction sites and make it easier for shady contractors to commit wage theft. \nJOIN US Wed. June 18 in calling for an RFK stadium deal that includes a commitment to good union construction jobs and high-quality hospitality jobs at the stadium and at future hotels and restaurants near the RFK site.
URL:https://bdcbt.org/event/rally-against-mayor-bowsers-big-beautiful-budget/
LOCATION:John Wilson Building\, 1350 Pennsylvania Ave. NW\, Washington\, DC\, 20004\, United States
ATTACH;FMTTYPE=image/webp:https://bdcbt.org/wp-content/uploads/2025/06/No-One-is-Left-Unscathed.webp
ORGANIZER;CN="Baltimore-DC Metro Building Trades Council":MAILTO:admin@bdcbt.org
END:VEVENT
END:VCALENDAR