BEGIN:VCALENDAR
VERSION:2.0
PRODID:-//Baltimore-DC Metro Building Trades Council - ECPv6.15.20//NONSGML v1.0//EN
CALSCALE:GREGORIAN
METHOD:PUBLISH
X-ORIGINAL-URL:https://bdcbt.org
X-WR-CALDESC:Events for Baltimore-DC Metro Building Trades Council
REFRESH-INTERVAL;VALUE=DURATION:PT1H
X-Robots-Tag:noindex
X-PUBLISHED-TTL:PT1H
BEGIN:VTIMEZONE
TZID:America/New_York
BEGIN:DAYLIGHT
TZOFFSETFROM:-0500
TZOFFSETTO:-0400
TZNAME:EDT
DTSTART:20250309T070000
END:DAYLIGHT
BEGIN:STANDARD
TZOFFSETFROM:-0400
TZOFFSETTO:-0500
TZNAME:EST
DTSTART:20251102T060000
END:STANDARD
BEGIN:DAYLIGHT
TZOFFSETFROM:-0500
TZOFFSETTO:-0400
TZNAME:EDT
DTSTART:20260308T070000
END:DAYLIGHT
BEGIN:STANDARD
TZOFFSETFROM:-0400
TZOFFSETTO:-0500
TZNAME:EST
DTSTART:20261101T060000
END:STANDARD
BEGIN:DAYLIGHT
TZOFFSETFROM:-0500
TZOFFSETTO:-0400
TZNAME:EDT
DTSTART:20270314T070000
END:DAYLIGHT
BEGIN:STANDARD
TZOFFSETFROM:-0400
TZOFFSETTO:-0500
TZNAME:EST
DTSTART:20271107T060000
END:STANDARD
END:VTIMEZONE
BEGIN:VEVENT
DTSTART;TZID=America/New_York:20260414T173000
DTEND;TZID=America/New_York:20260414T200000
DTSTAMP:20260422T185808
CREATED:20251120T163542Z
LAST-MODIFIED:20251120T163542Z
UID:10000370-1776187800-1776196800@bdcbt.org
SUMMARY:The Working Vote Series (Howard County\, Anne Arundel County\, Carroll County)
DESCRIPTION:Are you a member of a Metro Baltimore AFL-CIO affiliate? Join us for The Working Vote Series—your opportunity to meet\, question\, and engage with candidates seeking our union’s endorsement. Whether you’re a rank-and-file member or in leadership\, your input helps shape who we support in races for County Council and beyond. \nAt these meetings\, you’ll be able to: \nAsk candidates direct questions \nShare your local’s priorities \nProvide feedback that the endorsement board will use to make final decisions \nThis is your chance to speak directly to those who want to represent you—and to help ensure they understand what matters to working people. \nRegister now > \nNOTE: These meetings are for union members and invited candidates only \nQuestions? Contact Miranda Lan at mirandalan@mbaflcio.org. \n\n\n\n\n\n\n\n\n\nAccessibility\n\n\n\n\n\nThis event meets ADA standards \n\n\nHave accessibility questions? Reply to your registration email to confirm your requirements or request more information.
URL:https://bdcbt.org/event/the-working-vote-series-howard-county-anne-arundel-county-carroll-county/2026-04-14/
ATTACH;FMTTYPE=image/webp:https://bdcbt.org/wp-content/uploads/2025/11/afl_cio_metro_1.png-copy.webp
END:VEVENT
BEGIN:VEVENT
DTSTART;TZID=America/New_York:20260415T090000
DTEND;TZID=America/New_York:20260415T110000
DTSTAMP:20260422T185808
CREATED:20251215T203553Z
LAST-MODIFIED:20251215T203720Z
UID:10000382-1776243600-1776250800@bdcbt.org
SUMMARY:Maryland Works for Wind - Info Session
DESCRIPTION:Join the Baltimore County Department of Economic and Workforce Development this Wednesday\, December 17th\, for a virtual webinar with Maryland Works for Wind and learn about FREE training programs offered to help prepare job seekers for in-demand jobs. \nGet connected with apprenticeship programs and training facilities and gain valuable skills to start a new trade in the wind power industry. \nRegister for the webinar > 
URL:https://bdcbt.org/event/maryland-works-for-wind-info-session/2026-04-15/
ATTACH;FMTTYPE=image/jpeg:https://bdcbt.org/wp-content/uploads/2025/12/mwwbanner.jpg
ORGANIZER;CN="Baltimore County Department of Economic and Workforce Development":MAILTO:http://careernavigator@baltimorecountymd.gov
LOCATION:
END:VEVENT
END:VCALENDAR