BEGIN:VCALENDAR
VERSION:2.0
PRODID:-//Baltimore-DC Metro Building Trades Council - ECPv6.15.20//NONSGML v1.0//EN
CALSCALE:GREGORIAN
METHOD:PUBLISH
X-ORIGINAL-URL:https://bdcbt.org
X-WR-CALDESC:Events for Baltimore-DC Metro Building Trades Council
REFRESH-INTERVAL;VALUE=DURATION:PT1H
X-Robots-Tag:noindex
X-PUBLISHED-TTL:PT1H
BEGIN:VTIMEZONE
TZID:America/New_York
BEGIN:DAYLIGHT
TZOFFSETFROM:-0500
TZOFFSETTO:-0400
TZNAME:EDT
DTSTART:20240310T070000
END:DAYLIGHT
BEGIN:STANDARD
TZOFFSETFROM:-0400
TZOFFSETTO:-0500
TZNAME:EST
DTSTART:20241103T060000
END:STANDARD
BEGIN:DAYLIGHT
TZOFFSETFROM:-0500
TZOFFSETTO:-0400
TZNAME:EDT
DTSTART:20250309T070000
END:DAYLIGHT
BEGIN:STANDARD
TZOFFSETFROM:-0400
TZOFFSETTO:-0500
TZNAME:EST
DTSTART:20251102T060000
END:STANDARD
BEGIN:DAYLIGHT
TZOFFSETFROM:-0500
TZOFFSETTO:-0400
TZNAME:EDT
DTSTART:20260308T070000
END:DAYLIGHT
BEGIN:STANDARD
TZOFFSETFROM:-0400
TZOFFSETTO:-0500
TZNAME:EST
DTSTART:20261101T060000
END:STANDARD
END:VTIMEZONE
BEGIN:VEVENT
DTSTART;VALUE=DATE:20251020
DTEND;VALUE=DATE:20251126
DTSTAMP:20260423T012747
CREATED:20251120T193206Z
LAST-MODIFIED:20251120T194325Z
UID:10000374-1760918400-1764115199@bdcbt.org
SUMMARY:Community Services 2025 Holiday Basket Donations
DESCRIPTION:Community Services of Central Maryland’s Annual Holiday Baskets Giveaway is fast approaching. Help support union members in need this holiday season by showing your solidarity. \nToys and non-perishable food items can be donated at the Metro Baltimore Council office at 2701 W. Patapsco Ave.\, Suite #110\, Baltimore\, MD 21230. Office hours are from 9am to 5pm. \nFor monetary donations\, checks can be made out to: AFL-CIO Community Services of Central MD\, earmarked “Food Pantry.” \nQuestions? Contact William Parks at 443-500-8081 or wparks@mbalfcio.org
URL:https://bdcbt.org/event/community-services-2025-holiday-basket-donations/
LOCATION:Metropolitan Baltimore Council\, AFL-CIO\, 2701 W. Patapsco Ave.\, Suite #110\, Baltimore\, MD\, 21230\, United States
ATTACH;FMTTYPE=image/webp:https://bdcbt.org/wp-content/uploads/2025/11/Save-the-Season-.webp
ORGANIZER;CN="Community Services Agency":MAILTO:csa@dclabor.org
END:VEVENT
BEGIN:VEVENT
DTSTART;TZID=America/New_York:20251025T070000
DTEND;TZID=America/New_York:20251025T120000
DTSTAMP:20260423T012747
CREATED:20251023T181412Z
LAST-MODIFIED:20251023T201809Z
UID:10000348-1761375600-1761393600@bdcbt.org
SUMMARY:IBEW Local 24 @ Balt. Mayor's Fall Cleanup & Day of Service
DESCRIPTION:Baltimore City Department of Public Works (DPW)\, and the Mayor’s Office are calling on residents and labor unions  to register now for the Mayor’s Fall Clean-Up and Day of Service. IBEW Local 24 is answering the call again for the Day of Service around Baltimore City. \nJoin IBEW members at the hall on October 25th at 2701 W Patapsco Ave #200\, Baltimore\, MD 21230 at 7 AM\, for coffee and donuts before leaving for the clean up location.  \nWear your union shirt\, hats and any other memorabilia as we show up and show out for Baltimore. Raise awareness in the city about the power of union labor! \nRSVP for the Day of Service > \nContact EWMC at ewmc24@gmail.com with any questions.
URL:https://bdcbt.org/event/balt-mayors-fall-cleanup-day-of-service/
ATTACH;FMTTYPE=image/webp:https://bdcbt.org/wp-content/uploads/2025/10/IBEW-Locala-24-Day-of-Servicee.webp
END:VEVENT
BEGIN:VEVENT
DTSTART;TZID=America/New_York:20251025T090000
DTEND;TZID=America/New_York:20251025T120000
DTSTAMP:20260423T012747
CREATED:20251023T202948Z
LAST-MODIFIED:20251023T203031Z
UID:10000353-1761382800-1761393600@bdcbt.org
SUMMARY:VA Labor Walk with IUPAT DC 51
DESCRIPTION:Join IUPAT DC 51 on Saturday\, October 25 at 911 Charles Street in Fredericksburg\, VA for their Labor Walk because elections matter\, and real change starts with showing up! \n\n\n\n Breakfast will be provided—but more importantly\, they need YOU there.\n\n\n\n Local races directly impact our jobs\, our families\, and our futures. The best way to protect our rights and strengthen our union voice is by getting involved. \n\n\n\nLet’s walk together\, speak up together\, and fight together.\nOne Union. One Family. One Fight.\n\n\nFor more information\, call Roxy at 301-440-6663.
URL:https://bdcbt.org/event/va-labor-walk-with-iupat-dc-51/
LOCATION:Fredericksburg Labor Walk\, 911 Charles St.\, Fredericksburg\, VA\, 22401\, United States
ATTACH;FMTTYPE=image/webp:https://bdcbt.org/wp-content/uploads/2025/10/IUPAT-Labor-Walk2.webp
END:VEVENT
BEGIN:VEVENT
DTSTART;TZID=America/New_York:20251025T170000
DTEND;TZID=America/New_York:20251025T200000
DTSTAMP:20260423T012747
CREATED:20251023T182731Z
LAST-MODIFIED:20251023T201659Z
UID:10000349-1761411600-1761422400@bdcbt.org
SUMMARY:Plumbers & Gasfitters Local 5 Halloween Open House
DESCRIPTION:The Plumbers Local 5 Apprenticeship Student Council is hosting its 4th Annual Haunted Open House — and it’s going to be a frightfully good time! \nMission BBQ • Drinks • Candy Stations • Photobooth • S’mores Station • Haunted Maze • Coloring Activities • Ghosts\, ghouls\, and goblins\, etc.… \nThere’s something for everyone. Apprentices\, Local 5 Members\, family and friends are welcome. \nInterested in Volunteering? Sign up below! \nIf you are available to volunteer the day of\, please sign up as a volunteer using the link below. If you would like to donate decorations\, candy\, etc. please contact the front office at 301-552-3505 or email the front office staff at info@local5plumbers.org. We appreciate your support! \nCall or email the training facility with any questions. \n\n\n\nDon’t miss it—mark your calendar and get ready to celebrate with Local 5!\nRSVP TODAY >\n\n\n 
URL:https://bdcbt.org/event/plumbers-local-5-halloween-open-house/
LOCATION:Plumbers & Gasfitters Local 5 Training Facility\, 5000 Forbes Blvd.\, Lanham\, MD\, 20706
ATTACH;FMTTYPE=image/webp:https://bdcbt.org/wp-content/uploads/2025/10/Plumbers-Halloween-open-house2.webp
ORGANIZER;CN="Plumbers & Gasfitters Local 5":MAILTO:CBiondi@PlumbersLocal5.org
END:VEVENT
END:VCALENDAR