BEGIN:VCALENDAR
VERSION:2.0
PRODID:-//Baltimore-DC Metro Building Trades Council - ECPv6.15.20//NONSGML v1.0//EN
CALSCALE:GREGORIAN
METHOD:PUBLISH
X-WR-CALNAME:Baltimore-DC Metro Building Trades Council
X-ORIGINAL-URL:https://bdcbt.org
X-WR-CALDESC:Events for Baltimore-DC Metro Building Trades Council
REFRESH-INTERVAL;VALUE=DURATION:PT1H
X-Robots-Tag:noindex
X-PUBLISHED-TTL:PT1H
BEGIN:VTIMEZONE
TZID:America/New_York
BEGIN:DAYLIGHT
TZOFFSETFROM:-0500
TZOFFSETTO:-0400
TZNAME:EDT
DTSTART:20240310T070000
END:DAYLIGHT
BEGIN:STANDARD
TZOFFSETFROM:-0400
TZOFFSETTO:-0500
TZNAME:EST
DTSTART:20241103T060000
END:STANDARD
BEGIN:DAYLIGHT
TZOFFSETFROM:-0500
TZOFFSETTO:-0400
TZNAME:EDT
DTSTART:20250309T070000
END:DAYLIGHT
BEGIN:STANDARD
TZOFFSETFROM:-0400
TZOFFSETTO:-0500
TZNAME:EST
DTSTART:20251102T060000
END:STANDARD
BEGIN:DAYLIGHT
TZOFFSETFROM:-0500
TZOFFSETTO:-0400
TZNAME:EDT
DTSTART:20260308T070000
END:DAYLIGHT
BEGIN:STANDARD
TZOFFSETFROM:-0400
TZOFFSETTO:-0500
TZNAME:EST
DTSTART:20261101T060000
END:STANDARD
END:VTIMEZONE
BEGIN:VEVENT
DTSTART;TZID=America/New_York:20251006T180000
DTEND;TZID=America/New_York:20251006T190000
DTSTAMP:20260423T051802
CREATED:20250925T190409Z
LAST-MODIFIED:20250925T190928Z
UID:10000343-1759773600-1759777200@bdcbt.org
SUMMARY:Conversation with Cory McCray: The Apprenticeship That Saved My Life
DESCRIPTION:Join us in the Solidarity Room at the AFL-CIO Headquarters on Monday\, October 6th from 6:00–7:00 PM for a special book event with Cory V. McCray. \nIn his debut book\, The Apprenticeship That Saved My Life\, McCray presents a practical guide on how mentorship\, skilled trades\, and second chances can open doors and create lasting opportunities. Interwoven with his biography — from growing up in Baltimore to becoming a journeyman electrician and\, eventually\, serving in the Maryland State Senate — McCray shows how grit and access to the right pathways can transform not only one life but entire communities. \nThis event will feature an in-depth conversation\, a discussion of the book’s themes\, and an opportunity for attendees to reflect on how communities can build stronger foundations for the next generation. A book signing will follow the program. \nThis is a FREE event. RSVP to get your ticket >
URL:https://bdcbt.org/event/conversation-with-cory-mccray-the-apprenticeship-that-saved-my-life/
LOCATION:AFL-CIO\, 815 Black Lives Matter Plaza NW\, Washington\, DC\, 20006\, United States
ATTACH;FMTTYPE=image/jpeg:https://bdcbt.org/wp-content/uploads/2025/09/https___cdn.evbuc_.com_images_1126357313_22360716960_1_original.jpeg
END:VEVENT
BEGIN:VEVENT
DTSTART;TZID=America/New_York:20251008T080000
DTEND;TZID=America/New_York:20251008T140000
DTSTAMP:20260423T051802
CREATED:20250811T161507Z
LAST-MODIFIED:20250811T161507Z
UID:10000336-1759910400-1759932000@bdcbt.org
SUMMARY:Union Trades Career Fair
DESCRIPTION:
URL:https://bdcbt.org/event/union-trades-career-fair/
LOCATION:IUOE Local 37 Training School\, 5021 North Point Blvd\, Baltimore\, MD\, 21219\, United States
ATTACH;FMTTYPE=image/webp:https://bdcbt.org/wp-content/uploads/2025/08/Union-Trades-Oct8-career-fair2.webp
END:VEVENT
END:VCALENDAR