BEGIN:VCALENDAR
VERSION:2.0
PRODID:-//Baltimore-DC Metro Building Trades Council - ECPv6.15.20//NONSGML v1.0//EN
CALSCALE:GREGORIAN
METHOD:PUBLISH
X-ORIGINAL-URL:https://bdcbt.org
X-WR-CALDESC:Events for Baltimore-DC Metro Building Trades Council
REFRESH-INTERVAL;VALUE=DURATION:PT1H
X-Robots-Tag:noindex
X-PUBLISHED-TTL:PT1H
BEGIN:VTIMEZONE
TZID:America/New_York
BEGIN:DAYLIGHT
TZOFFSETFROM:-0500
TZOFFSETTO:-0400
TZNAME:EDT
DTSTART:20240310T070000
END:DAYLIGHT
BEGIN:STANDARD
TZOFFSETFROM:-0400
TZOFFSETTO:-0500
TZNAME:EST
DTSTART:20241103T060000
END:STANDARD
BEGIN:DAYLIGHT
TZOFFSETFROM:-0500
TZOFFSETTO:-0400
TZNAME:EDT
DTSTART:20250309T070000
END:DAYLIGHT
BEGIN:STANDARD
TZOFFSETFROM:-0400
TZOFFSETTO:-0500
TZNAME:EST
DTSTART:20251102T060000
END:STANDARD
BEGIN:DAYLIGHT
TZOFFSETFROM:-0500
TZOFFSETTO:-0400
TZNAME:EDT
DTSTART:20260308T070000
END:DAYLIGHT
BEGIN:STANDARD
TZOFFSETFROM:-0400
TZOFFSETTO:-0500
TZNAME:EST
DTSTART:20261101T060000
END:STANDARD
END:VTIMEZONE
BEGIN:VEVENT
DTSTART;VALUE=DATE:20251004
DTEND;VALUE=DATE:20251005
DTSTAMP:20260423T012455
CREATED:20251002T024504Z
LAST-MODIFIED:20251002T025037Z
UID:10000346-1759536000-1759622399@bdcbt.org
SUMMARY:Steamfitters Local 602 Annual Open House
DESCRIPTION:Join Steamfitters Local 602 on Saturday\, October 4th\, for their Annual Open House! Learn about the application process\, school operations\, and get your questions answered. \nAll interested parties are welcome to attend — no reservation required (space is limited). \n📍 8509 Ardwick Ardmore Rd\, Landover\, MD\n📅 Saturday\, October 4\, 2025 | Arrive by noon\n👉 Note: Applications will not be taken at the event. \nThe next apprenticeship application period opens November 1\, 2025. \nMore info: 602training.org/application-process
URL:https://bdcbt.org/event/14851/
LOCATION:Steamfitters Local 602\, 8509 Ardwick Ardmore Rd\, Landover\, MD\, 20785\, United States
ATTACH;FMTTYPE=image/webp:https://bdcbt.org/wp-content/uploads/2025/10/qtq_95-copy.webp
END:VEVENT
BEGIN:VEVENT
DTSTART;TZID=America/New_York:20251004T143000
DTEND;TZID=America/New_York:20251004T143000
DTSTAMP:20260423T012455
CREATED:20250925T192957Z
LAST-MODIFIED:20250925T193030Z
UID:10000345-1759588200-1759588200@bdcbt.org
SUMMARY:Labor Night at D.C. United
DESCRIPTION:Get ready for an exhilarating Labor Night at Audi Field! Join us at 2:30 PM as DC United takes on Charlotte FC in an unforgettable showdown. Not only will you witness thrilling soccer action\, but you’ll also be supporting a great cause—$5 from every ticket sold will be donated to the Community Services Agency! \nBuy individual tickets here » For orders of 10 tickets or more\, contact Eliyana at efloyd@dcunited.com or 202-335-4417.
URL:https://bdcbt.org/event/labor-night-at-d-c-united/
LOCATION:Audi Field\, 100 Potomac Ave SW\, Washington\, DC\, 20024\, United States
ATTACH;FMTTYPE=image/webp:https://bdcbt.org/wp-content/uploads/2025/09/Labor-Night-at-DC-United.webp
END:VEVENT
END:VCALENDAR