BEGIN:VCALENDAR
VERSION:2.0
PRODID:-//Baltimore-DC Metro Building Trades Council - ECPv6.15.20//NONSGML v1.0//EN
CALSCALE:GREGORIAN
METHOD:PUBLISH
X-WR-CALNAME:Baltimore-DC Metro Building Trades Council
X-ORIGINAL-URL:https://bdcbt.org
X-WR-CALDESC:Events for Baltimore-DC Metro Building Trades Council
REFRESH-INTERVAL;VALUE=DURATION:PT1H
X-Robots-Tag:noindex
X-PUBLISHED-TTL:PT1H
BEGIN:VTIMEZONE
TZID:America/New_York
BEGIN:DAYLIGHT
TZOFFSETFROM:-0500
TZOFFSETTO:-0400
TZNAME:EDT
DTSTART:20240310T070000
END:DAYLIGHT
BEGIN:STANDARD
TZOFFSETFROM:-0400
TZOFFSETTO:-0500
TZNAME:EST
DTSTART:20241103T060000
END:STANDARD
BEGIN:DAYLIGHT
TZOFFSETFROM:-0500
TZOFFSETTO:-0400
TZNAME:EDT
DTSTART:20250309T070000
END:DAYLIGHT
BEGIN:STANDARD
TZOFFSETFROM:-0400
TZOFFSETTO:-0500
TZNAME:EST
DTSTART:20251102T060000
END:STANDARD
BEGIN:DAYLIGHT
TZOFFSETFROM:-0500
TZOFFSETTO:-0400
TZNAME:EDT
DTSTART:20260308T070000
END:DAYLIGHT
BEGIN:STANDARD
TZOFFSETFROM:-0400
TZOFFSETTO:-0500
TZNAME:EST
DTSTART:20261101T060000
END:STANDARD
END:VTIMEZONE
BEGIN:VEVENT
DTSTART;TZID=America/New_York:20250917T080000
DTEND;TZID=America/New_York:20250917T170000
DTSTAMP:20260423T051828
CREATED:20250804T152456Z
LAST-MODIFIED:20250804T153450Z
UID:10000329-1758096000-1758128400@bdcbt.org
SUMMARY:2nd DC Council Vote on RFK Stadium
DESCRIPTION:The DC Council will hold a second and final vote on the RFK Stadium redevelopment deal on September 17th. This vote will be a confirmation of the initial approval granted on August 1st\, according to the DC Council.  \nRelated news:  \n\nLabor Leaders Announce Support for RFK Campus Legislation\nAug. 1\, 2025\nBaltimore-DC Metro Building Trades Council\nCommanders’ RFK stadium plan passes first D.C. City Council vote in major step forward for development\nAug. 1\, 2025\nCBS Sports
URL:https://bdcbt.org/event/2nd-dc-council-vote-on-rfk-stadium/
ATTACH;FMTTYPE=image/webp:https://bdcbt.org/wp-content/uploads/2025/06/RFK_stadium.webp
END:VEVENT
BEGIN:VEVENT
DTSTART;TZID=America/New_York:20250917T100000
DTEND;TZID=America/New_York:20250917T120000
DTSTAMP:20260423T051828
CREATED:20250804T155213Z
LAST-MODIFIED:20250804T155213Z
UID:10000333-1758103200-1758110400@bdcbt.org
SUMMARY:Returning Citizens Life Skills Training & Resources
DESCRIPTION:Are you a returning citizen ready to build a better future? Reenter the workforce with confidence. This workshop offers returning citizens employment resources\, training opportunities and the support to help you succeed. \n➡️ WALK-INS ARE WELCOME | ⬇️ Download Flyer
URL:https://bdcbt.org/event/returning-citizens-life-skills-training-resources/2025-09-17/
LOCATION:American Job Center National Harbor at Tanger Outlets\, 6800 Oxon Hill Rd\, Suite 298\, Oxon Hill\, MD\, 20745\, United States
ATTACH;FMTTYPE=image/webp:https://bdcbt.org/wp-content/uploads/2025/08/Returning-Citizens-workshop.webp
END:VEVENT
END:VCALENDAR