BEGIN:VCALENDAR
VERSION:2.0
PRODID:-//Baltimore-DC Metro Building Trades Council - ECPv6.15.20//NONSGML v1.0//EN
CALSCALE:GREGORIAN
METHOD:PUBLISH
X-ORIGINAL-URL:https://bdcbt.org
X-WR-CALDESC:Events for Baltimore-DC Metro Building Trades Council
REFRESH-INTERVAL;VALUE=DURATION:PT1H
X-Robots-Tag:noindex
X-PUBLISHED-TTL:PT1H
BEGIN:VTIMEZONE
TZID:America/New_York
BEGIN:DAYLIGHT
TZOFFSETFROM:-0500
TZOFFSETTO:-0400
TZNAME:EDT
DTSTART:20240310T070000
END:DAYLIGHT
BEGIN:STANDARD
TZOFFSETFROM:-0400
TZOFFSETTO:-0500
TZNAME:EST
DTSTART:20241103T060000
END:STANDARD
BEGIN:DAYLIGHT
TZOFFSETFROM:-0500
TZOFFSETTO:-0400
TZNAME:EDT
DTSTART:20250309T070000
END:DAYLIGHT
BEGIN:STANDARD
TZOFFSETFROM:-0400
TZOFFSETTO:-0500
TZNAME:EST
DTSTART:20251102T060000
END:STANDARD
BEGIN:DAYLIGHT
TZOFFSETFROM:-0500
TZOFFSETTO:-0400
TZNAME:EDT
DTSTART:20260308T070000
END:DAYLIGHT
BEGIN:STANDARD
TZOFFSETFROM:-0400
TZOFFSETTO:-0500
TZNAME:EST
DTSTART:20261101T060000
END:STANDARD
END:VTIMEZONE
BEGIN:VEVENT
DTSTART;TZID=America/New_York:20250903T100000
DTEND;TZID=America/New_York:20250903T120000
DTSTAMP:20260423T032129
CREATED:20250804T155213Z
LAST-MODIFIED:20250804T155213Z
UID:10000332-1756893600-1756900800@bdcbt.org
SUMMARY:Returning Citizens Life Skills Training & Resources
DESCRIPTION:Are you a returning citizen ready to build a better future? Reenter the workforce with confidence. This workshop offers returning citizens employment resources\, training opportunities and the support to help you succeed. \n➡️ WALK-INS ARE WELCOME | ⬇️ Download Flyer
URL:https://bdcbt.org/event/returning-citizens-life-skills-training-resources/2025-09-03/
LOCATION:American Job Center National Harbor at Tanger Outlets\, 6800 Oxon Hill Rd\, Suite 298\, Oxon Hill\, MD\, 20745\, United States
ATTACH;FMTTYPE=image/webp:https://bdcbt.org/wp-content/uploads/2025/08/Returning-Citizens-workshop.webp
END:VEVENT
BEGIN:VEVENT
DTSTART;TZID=America/New_York:20250906T110000
DTEND;TZID=America/New_York:20250906T110000
DTSTAMP:20260423T032129
CREATED:20250904T172250Z
LAST-MODIFIED:20250904T191503Z
UID:10000338-1757156400-1757156400@bdcbt.org
SUMMARY:We Are All DC March
DESCRIPTION:STAND UP FOR DC. STAND UP FOR DEMOCRACY.\nDC is under attack. By sending National Guard troops from multiple states and federal law enforcement officers into the District\, Donald Trump has launched an assault to harass\, surveil and detain Black and brown working-class residents\, immigrants\, youth and unhoused neighbors. \nBut DC communities are powerful\, connected and standing together. We’re uniting to say: NO to authoritarian overreach. YES to community. YES to justice. YES to democracy.\n|\n📅 Saturday\, Sept 6\n📍 Malcolm X Park\, 1544 Euclid St NW\, Washington\, DC 20009\n⏰ 11 AM \nThis is our city. We live here. We work here. We raise our families here. We decide. \n👉 More info:  weareallDC.com \n\nThis event has safety marshals and security protocols. Participants who join us to march\, rally\, and participate agree to create a peaceful\, nonviolent space.
URL:https://bdcbt.org/event/we-are-all-dc-march/
LOCATION:Malcom X Park\, 1544 Euclid St NW\, Washingtono\, DC\, 20009\, United States
ATTACH;FMTTYPE=image/jpeg:https://bdcbt.org/wp-content/uploads/2025/09/537459820_1202723098563725_636427092227590783_n.jpg
END:VEVENT
BEGIN:VEVENT
DTSTART;TZID=America/New_York:20250907T130000
DTEND;TZID=America/New_York:20250907T170000
DTSTAMP:20260423T032129
CREATED:20250804T151142Z
LAST-MODIFIED:20250804T151342Z
UID:10000328-1757250000-1757264400@bdcbt.org
SUMMARY:Union Day @ The Commanders
DESCRIPTION:On September 7\, join the Community Services Agency for Union Day at the Washington Commanders to cheer on Old DC versus the New York Giants. \nAll ticket sales include a donation to the Community Services Agency. To purchase tickets\, email Chris Ortega at the Washington Commanders. \n 
URL:https://bdcbt.org/event/union-day-the-commanders/
ATTACH;FMTTYPE=image/webp:https://bdcbt.org/wp-content/uploads/2025/08/Union-Day-at-Commanders.webp
END:VEVENT
END:VCALENDAR