BEGIN:VCALENDAR
VERSION:2.0
PRODID:-//Baltimore-DC Metro Building Trades Council - ECPv6.15.20//NONSGML v1.0//EN
CALSCALE:GREGORIAN
METHOD:PUBLISH
X-ORIGINAL-URL:https://bdcbt.org
X-WR-CALDESC:Events for Baltimore-DC Metro Building Trades Council
REFRESH-INTERVAL;VALUE=DURATION:PT1H
X-Robots-Tag:noindex
X-PUBLISHED-TTL:PT1H
BEGIN:VTIMEZONE
TZID:America/New_York
BEGIN:DAYLIGHT
TZOFFSETFROM:-0500
TZOFFSETTO:-0400
TZNAME:EDT
DTSTART:20240310T070000
END:DAYLIGHT
BEGIN:STANDARD
TZOFFSETFROM:-0400
TZOFFSETTO:-0500
TZNAME:EST
DTSTART:20241103T060000
END:STANDARD
BEGIN:DAYLIGHT
TZOFFSETFROM:-0500
TZOFFSETTO:-0400
TZNAME:EDT
DTSTART:20250309T070000
END:DAYLIGHT
BEGIN:STANDARD
TZOFFSETFROM:-0400
TZOFFSETTO:-0500
TZNAME:EST
DTSTART:20251102T060000
END:STANDARD
BEGIN:DAYLIGHT
TZOFFSETFROM:-0500
TZOFFSETTO:-0400
TZNAME:EDT
DTSTART:20260308T070000
END:DAYLIGHT
BEGIN:STANDARD
TZOFFSETFROM:-0400
TZOFFSETTO:-0500
TZNAME:EST
DTSTART:20261101T060000
END:STANDARD
END:VTIMEZONE
BEGIN:VEVENT
DTSTART;TZID=America/New_York:20250806T100000
DTEND;TZID=America/New_York:20250806T120000
DTSTAMP:20260423T012457
CREATED:20250804T155213Z
LAST-MODIFIED:20250804T155213Z
UID:10000330-1754474400-1754481600@bdcbt.org
SUMMARY:Returning Citizens Life Skills Training & Resources
DESCRIPTION:Are you a returning citizen ready to build a better future? Reenter the workforce with confidence. This workshop offers returning citizens employment resources\, training opportunities and the support to help you succeed. \n➡️ WALK-INS ARE WELCOME | ⬇️ Download Flyer
URL:https://bdcbt.org/event/returning-citizens-life-skills-training-resources/2025-08-06/
LOCATION:American Job Center National Harbor at Tanger Outlets\, 6800 Oxon Hill Rd\, Suite 298\, Oxon Hill\, MD\, 20745\, United States
ATTACH;FMTTYPE=image/webp:https://bdcbt.org/wp-content/uploads/2025/08/Returning-Citizens-workshop.webp
END:VEVENT
BEGIN:VEVENT
DTSTART;TZID=America/New_York:20250807T093000
DTEND;TZID=America/New_York:20250807T160000
DTSTAMP:20260423T012457
CREATED:20250728T151836Z
LAST-MODIFIED:20250728T154511Z
UID:10000323-1754559000-1754582400@bdcbt.org
SUMMARY:Baltimore Local Hiring Open House
DESCRIPTION:Join us on August 7 for a Pre-Apprenticeship Open House focused on opportunties on the Key Bridge Rebuild and Frederick Douglas Tunnel projects in Baltimore. \nThis event is hosted by the Maryland Transportation Authority\, local building trades unions and Kiewit Corporation. It is an excellent opportunity for jobseekers to learn how they can become involved in one of the most significant infrastructure efforts in our region. Attendees will have the chance to meet with Kiewit representatives and local unions and explore available career pathways. \nNo pre-registration is required. If you would like an email reminder about the event\, sign up at: https://app.smartsheet.com/b/form/6a88ea37aec14b5683bfc51ed14ac3b4
URL:https://bdcbt.org/event/baltimore-local-hiring-open-house/
LOCATION:EAS Carpenters Hall\, 801 W Patapsco Ave.\, Baltimore\, MD\, 21230\, United States
ATTACH;FMTTYPE=image/jpeg:https://bdcbt.org/wp-content/uploads/2025/07/522402205_1060006762987490_4575500370974451085_n.jpg
END:VEVENT
BEGIN:VEVENT
DTSTART;TZID=America/New_York:20250816T110000
DTEND;TZID=America/New_York:20250816T140000
DTSTAMP:20260423T012457
CREATED:20250811T155718Z
LAST-MODIFIED:20250811T160116Z
UID:10000335-1755342000-1755352800@bdcbt.org
SUMMARY:Through the Looking Glass: Glass That Glows\, a Trade That Grows
DESCRIPTION:Join us for a magical day where curiosity meets craftsmanship! Kids will explore the world of glass with two incredible tradeswomen; a glazier and a glassblower who will share their tools\, stories and skills. | ¡Acompáñanos en un día mágico donde la curiosidad se encuentra con la artesanía! Los niños explorarán el mundo del vidrio con dos increíbles mujeres en los oficios: una acristaladora y una sopladora de vidrio\, quienes compartirán sus herramientas\, historias y habilidades. \nRSVP and register > \nIMPORTANT NOTICE | AVISO IMPORTANTE \nPlease note that the event will begin promptly at 11:00 AM\, and it is highly recommended that all attendees arrive no later than 11:30 AM. | Tenga en cuenta que el evento comenzará puntualmente a las 11:00 a. m. y se recomienda encarecidamente que todos los asistentes lleguen no más tarde de las 11:30 a. m.\n\nArriving after this time may result in missing key demonstrations and important activities. To ensure you receive the full experience of the day\, we strongly encourage you to arrive on time. | Si llega después de esta hora\, podría perderse demostraciones clave y actividades importantes. Para garantizar que disfrute al máximo de la experiencia del día\, le recomendamos encarecidamente que llegue puntual.
URL:https://bdcbt.org/event/through-the-looking-glass-glass-that-glows-a-trade-that-grows/
LOCATION:Painters DC 51\, 4700 Boston Way\, Lanham\, MD\, 20706
ATTACH;FMTTYPE=image/jpeg:https://bdcbt.org/wp-content/uploads/2025/08/Through-the-Looking-Glass.jpg
ORGANIZER;CN="DMV Tradeswomen":MAILTO:hello@dccluw.org
END:VEVENT
BEGIN:VEVENT
DTSTART;TZID=America/New_York:20250820T100000
DTEND;TZID=America/New_York:20250820T120000
DTSTAMP:20260423T012457
CREATED:20250804T155213Z
LAST-MODIFIED:20250804T155213Z
UID:10000331-1755684000-1755691200@bdcbt.org
SUMMARY:Returning Citizens Life Skills Training & Resources
DESCRIPTION:Are you a returning citizen ready to build a better future? Reenter the workforce with confidence. This workshop offers returning citizens employment resources\, training opportunities and the support to help you succeed. \n➡️ WALK-INS ARE WELCOME | ⬇️ Download Flyer
URL:https://bdcbt.org/event/returning-citizens-life-skills-training-resources/2025-08-20/
LOCATION:American Job Center National Harbor at Tanger Outlets\, 6800 Oxon Hill Rd\, Suite 298\, Oxon Hill\, MD\, 20745\, United States
ATTACH;FMTTYPE=image/webp:https://bdcbt.org/wp-content/uploads/2025/08/Returning-Citizens-workshop.webp
END:VEVENT
BEGIN:VEVENT
DTSTART;TZID=America/New_York:20250828T100000
DTEND;TZID=America/New_York:20250828T173000
DTSTAMP:20260423T012457
CREATED:20250804T145403Z
LAST-MODIFIED:20250804T145441Z
UID:10000326-1756375200-1756402200@bdcbt.org
SUMMARY:Labor Day Bus Shuttle Tour
DESCRIPTION:Metro Baltimore’s unions are headed to a workplace near you this Labor Day! \nWe’re taking our celebration on the road with a shuttle tour across three counties in our region. We’ll be stopping at job sites\, meeting workers where they are\, and lifting up the stories and strength of our union family. It’s a day to celebrate the labor movement — not from behind a podium\, but alongside the people who power our communities every day. \n\nRiding with us will be union affiliates from across the council\, allies\, and possibly a few elected officials who want to witness firsthand the impact of union work on the ground. The day will be full of energy\, connection\, and movement as we travel together in solidarity. \nThis year’s theme — Freedom\, Fairness\, and Security — reflects what we fight for on and off the job. It’s a reminder that every worker deserves dignity\, every voice deserves to be heard\, and every community thrives when labor is strong. \nWhether you’re joining us for the full ride or meeting us along the way\, we hope you’ll be part of this moving celebration of solidarity. Let’s honor our past\, show up for the present\, and build power for what’s next. \nIt’s time to raise our voices and build power with workers who are the backbone of our country. \nWill you join us on August 28th?  RSVP here! 
URL:https://bdcbt.org/event/labor-day-bus-shuttle-tour/
LOCATION:IBEW Local 24\, 2701 W Patapsco Ave.\, Baltimore\, MD\, 21230\, United States
ATTACH;FMTTYPE=image/webp:https://bdcbt.org/wp-content/uploads/2025/08/Balt-Labor-Day-2025.webp
END:VEVENT
END:VCALENDAR