BEGIN:VCALENDAR
VERSION:2.0
PRODID:-//Baltimore-DC Metro Building Trades Council - ECPv6.15.20//NONSGML v1.0//EN
CALSCALE:GREGORIAN
METHOD:PUBLISH
X-ORIGINAL-URL:https://bdcbt.org
X-WR-CALDESC:Events for Baltimore-DC Metro Building Trades Council
REFRESH-INTERVAL;VALUE=DURATION:PT1H
X-Robots-Tag:noindex
X-PUBLISHED-TTL:PT1H
BEGIN:VTIMEZONE
TZID:America/New_York
BEGIN:DAYLIGHT
TZOFFSETFROM:-0500
TZOFFSETTO:-0400
TZNAME:EDT
DTSTART:20240310T070000
END:DAYLIGHT
BEGIN:STANDARD
TZOFFSETFROM:-0400
TZOFFSETTO:-0500
TZNAME:EST
DTSTART:20241103T060000
END:STANDARD
BEGIN:DAYLIGHT
TZOFFSETFROM:-0500
TZOFFSETTO:-0400
TZNAME:EDT
DTSTART:20250309T070000
END:DAYLIGHT
BEGIN:STANDARD
TZOFFSETFROM:-0400
TZOFFSETTO:-0500
TZNAME:EST
DTSTART:20251102T060000
END:STANDARD
BEGIN:DAYLIGHT
TZOFFSETFROM:-0500
TZOFFSETTO:-0400
TZNAME:EDT
DTSTART:20260308T070000
END:DAYLIGHT
BEGIN:STANDARD
TZOFFSETFROM:-0400
TZOFFSETTO:-0500
TZNAME:EST
DTSTART:20261101T060000
END:STANDARD
END:VTIMEZONE
BEGIN:VEVENT
DTSTART;TZID=America/New_York:20250711T190500
DTEND;TZID=America/New_York:20250711T220000
DTSTAMP:20260423T032136
CREATED:20250421T184757Z
LAST-MODIFIED:20250604T174417Z
UID:10000302-1752260700-1752271200@bdcbt.org
SUMMARY:Union Night at Camden Yards
DESCRIPTION:The AFL-CIO Metro Baltimore Council’s Union Night at Camden Yards will be held on Friday\, July 11th at 7:05 pm vs. the Miami Marlins. In addition to a great night out with family\, friends\, and union siblings\, $5 of every ticket sold will go directly to support Community Services of Central Maryland. \nNote: The initial purchase of tickets must be a minimum of 50. For orders of 50 tickets or fewer\, please contact William Parks at (443-500-808/wparks@mbaflcio.org). For orders of 50 or more\, please contact Cory Snee (csnee@orioles.com/410-547-6283). \n 
URL:https://bdcbt.org/event/union-night-at-camden-yards/
ATTACH;FMTTYPE=image/webp:https://bdcbt.org/wp-content/uploads/2025/04/Union-Night-at-Camden-Yards.webp
END:VEVENT
BEGIN:VEVENT
DTSTART;VALUE=DATE:20250715
DTEND;VALUE=DATE:20250716
DTSTAMP:20260423T032136
CREATED:20250708T150213Z
LAST-MODIFIED:20250708T150430Z
UID:10000316-1752537600-1752623999@bdcbt.org
SUMMARY:D.C. Ward 8 Special Election
DESCRIPTION:Four candidates are seeking to represent Ward 8 on the D.C. Council\, including former council member Trayon White Sr.\, who was expelled by the council in February following his indictment on a federal bribery charge. \nThe Metropolitan Washington Council\, AFL-CIO\, has endorsed Salim Adofo to be the next DC Councilmember for Ward 8\, stating in its endorsement that “Salim has shown his clear solidarity with Ward 8 workers and working families\, and we know he’s the right choice in this election.” Read more about the council’s endorsement here. \nAll registered Ward 8 voters should have received a ballot in the mail from the Board of Elections. Voters can return ballots by mail\, at a ballot drop box or at any vote center. If returned by mail\, ballots must be postmarked by July 15\, the day of the election\, and received by the Board of Elections by July 25. \nRead more about the special election in this Washington Post voter’s guide.
URL:https://bdcbt.org/event/d-c-ward-8-special-election/
ATTACH;FMTTYPE=image/png:https://bdcbt.org/wp-content/uploads/2025/07/EndorsementsJuly202414.png
END:VEVENT
BEGIN:VEVENT
DTSTART;TZID=America/New_York:20250715T190000
DTEND;TZID=America/New_York:20250715T190000
DTSTAMP:20260423T032136
CREATED:20250708T153418Z
LAST-MODIFIED:20250708T153540Z
UID:10000317-1752606000-1752606000@bdcbt.org
SUMMARY:Training on DC's Paid Family Leave program
DESCRIPTION:DC’s Paid Family Leave program provides up to 12 weeks of paid time off for any worker to care for a new baby or family member. \nLearn about this program at a virtual training with the Community Services Agency on Tuesday\, July 15 at 7:00 PM. Register to attend this training.
URL:https://bdcbt.org/event/training-on-dcs-paid-family-leave-program/
ATTACH;FMTTYPE=image/png:https://bdcbt.org/wp-content/uploads/2025/07/PaidFamilyLeaveprogramtraining.png
LOCATION:
END:VEVENT
BEGIN:VEVENT
DTSTART;TZID=America/New_York:20250718T093000
DTEND;TZID=America/New_York:20250718T140000
DTSTAMP:20260423T032136
CREATED:20250603T222337Z
LAST-MODIFIED:20250611T150325Z
UID:10000307-1752831000-1752847200@bdcbt.org
SUMMARY:Trades Day 2025
DESCRIPTION:Join us on July 18 to learn more about the building trades\, including career opportunities for local residents! \n\n\n\n\n\nWHO: Job seekers\, apprenticeship directors\, students\, contractors\, elected officials\, workforce development partners\, school district partners\, and more! \nWHAT: A day of inspiration\, observation and education highlighting the work of the building trades\, as well as opportunities for local residents looking for a pathway to a lifelong career in the trades. \nWHEN: Friday\, July 18 9:30am-12pm \nWHERE: Kellogg Conference Hotel Capitol Hill at Gallaudet\, 800 Florida Ave NE\, Washington\, DC 2000 \n\n\n\n\nThis event is FREE!  \nRSVP and register >
URL:https://bdcbt.org/event/trades-day-2025/
LOCATION:Kellogg Conference Hotel Capitol Hill at Gallaudet\, 800 Florida Ave NE\, Washington\, DC\, 20002\, United States
CATEGORIES:Apprenticehip,Training
ATTACH;FMTTYPE=image/webp:https://bdcbt.org/wp-content/uploads/2025/06/RTB_Baltimore_1.webp
END:VEVENT
BEGIN:VEVENT
DTSTART;TZID=America/New_York:20250729T083000
DTEND;TZID=America/New_York:20250729T083000
DTSTAMP:20260423T032136
CREATED:20250728T222131Z
LAST-MODIFIED:20250728T222149Z
UID:10000325-1753777800-1753777800@bdcbt.org
SUMMARY:RFK For the People
DESCRIPTION:The RFK stadium redevelopment is a massive project\, and DC workers and communities deserve more from this deal than either are currently getting.\n\n\n\nTUESDAY\, July 29 at 8:30 AM join Washington Interfaith Network (WIN) UNITE HERE Local 23 UNITE HERE Local 25 Baltimore-DC Metro Building Trades Council Sierra Club DC Chapter DC Fiscal Policy Institute DC Poor People’s Campaign: A National Call for Moral Revival and No Billionaire’s Playground for a rally and press conference ahead of the council’s hearing.
URL:https://bdcbt.org/event/rfk-for-the-people/
LOCATION:John Wilson Building\, 1350 Pennsylvania Ave. NW\, Washington\, DC\, 20004\, United States
ATTACH;FMTTYPE=image/jpeg:https://bdcbt.org/wp-content/uploads/2025/07/525366456_1398221281828251_4308241826040102616_n-copy.jpg
END:VEVENT
END:VCALENDAR