BEGIN:VCALENDAR
VERSION:2.0
PRODID:-//Baltimore-DC Metro Building Trades Council - ECPv6.15.20//NONSGML v1.0//EN
CALSCALE:GREGORIAN
METHOD:PUBLISH
X-WR-CALNAME:Baltimore-DC Metro Building Trades Council
X-ORIGINAL-URL:https://bdcbt.org
X-WR-CALDESC:Events for Baltimore-DC Metro Building Trades Council
REFRESH-INTERVAL;VALUE=DURATION:PT1H
X-Robots-Tag:noindex
X-PUBLISHED-TTL:PT1H
BEGIN:VTIMEZONE
TZID:America/New_York
BEGIN:DAYLIGHT
TZOFFSETFROM:-0500
TZOFFSETTO:-0400
TZNAME:EDT
DTSTART:20240310T070000
END:DAYLIGHT
BEGIN:STANDARD
TZOFFSETFROM:-0400
TZOFFSETTO:-0500
TZNAME:EST
DTSTART:20241103T060000
END:STANDARD
BEGIN:DAYLIGHT
TZOFFSETFROM:-0500
TZOFFSETTO:-0400
TZNAME:EDT
DTSTART:20250309T070000
END:DAYLIGHT
BEGIN:STANDARD
TZOFFSETFROM:-0400
TZOFFSETTO:-0500
TZNAME:EST
DTSTART:20251102T060000
END:STANDARD
BEGIN:DAYLIGHT
TZOFFSETFROM:-0500
TZOFFSETTO:-0400
TZNAME:EDT
DTSTART:20260308T070000
END:DAYLIGHT
BEGIN:STANDARD
TZOFFSETFROM:-0400
TZOFFSETTO:-0500
TZNAME:EST
DTSTART:20261101T060000
END:STANDARD
END:VTIMEZONE
BEGIN:VEVENT
DTSTART;TZID=America/New_York:20250906T110000
DTEND;TZID=America/New_York:20250906T110000
DTSTAMP:20260423T012146
CREATED:20250904T172250Z
LAST-MODIFIED:20250904T191503Z
UID:10000338-1757156400-1757156400@bdcbt.org
SUMMARY:We Are All DC March
DESCRIPTION:STAND UP FOR DC. STAND UP FOR DEMOCRACY.\nDC is under attack. By sending National Guard troops from multiple states and federal law enforcement officers into the District\, Donald Trump has launched an assault to harass\, surveil and detain Black and brown working-class residents\, immigrants\, youth and unhoused neighbors. \nBut DC communities are powerful\, connected and standing together. We’re uniting to say: NO to authoritarian overreach. YES to community. YES to justice. YES to democracy.\n|\n📅 Saturday\, Sept 6\n📍 Malcolm X Park\, 1544 Euclid St NW\, Washington\, DC 20009\n⏰ 11 AM \nThis is our city. We live here. We work here. We raise our families here. We decide. \n👉 More info:  weareallDC.com \n\nThis event has safety marshals and security protocols. Participants who join us to march\, rally\, and participate agree to create a peaceful\, nonviolent space.
URL:https://bdcbt.org/event/we-are-all-dc-march/
LOCATION:Malcom X Park\, 1544 Euclid St NW\, Washingtono\, DC\, 20009\, United States
ATTACH;FMTTYPE=image/jpeg:https://bdcbt.org/wp-content/uploads/2025/09/537459820_1202723098563725_636427092227590783_n.jpg
END:VEVENT
END:VCALENDAR