BEGIN:VCALENDAR
VERSION:2.0
PRODID:-//Baltimore-DC Metro Building Trades Council - ECPv6.15.20//NONSGML v1.0//EN
CALSCALE:GREGORIAN
METHOD:PUBLISH
X-ORIGINAL-URL:https://bdcbt.org
X-WR-CALDESC:Events for Baltimore-DC Metro Building Trades Council
REFRESH-INTERVAL;VALUE=DURATION:PT1H
X-Robots-Tag:noindex
X-PUBLISHED-TTL:PT1H
BEGIN:VTIMEZONE
TZID:America/New_York
BEGIN:DAYLIGHT
TZOFFSETFROM:-0500
TZOFFSETTO:-0400
TZNAME:EDT
DTSTART:20240310T070000
END:DAYLIGHT
BEGIN:STANDARD
TZOFFSETFROM:-0400
TZOFFSETTO:-0500
TZNAME:EST
DTSTART:20241103T060000
END:STANDARD
BEGIN:DAYLIGHT
TZOFFSETFROM:-0500
TZOFFSETTO:-0400
TZNAME:EDT
DTSTART:20250309T070000
END:DAYLIGHT
BEGIN:STANDARD
TZOFFSETFROM:-0400
TZOFFSETTO:-0500
TZNAME:EST
DTSTART:20251102T060000
END:STANDARD
BEGIN:DAYLIGHT
TZOFFSETFROM:-0500
TZOFFSETTO:-0400
TZNAME:EDT
DTSTART:20260308T070000
END:DAYLIGHT
BEGIN:STANDARD
TZOFFSETFROM:-0400
TZOFFSETTO:-0500
TZNAME:EST
DTSTART:20261101T060000
END:STANDARD
END:VTIMEZONE
BEGIN:VEVENT
DTSTART;TZID=America/New_York:20250614T120000
DTEND;TZID=America/New_York:20250614T120000
DTSTAMP:20260423T070252
CREATED:20250414T154339Z
LAST-MODIFIED:20250414T182803Z
UID:10000297-1749902400-1749902400@bdcbt.org
SUMMARY:IBEW Basketball Tournament
DESCRIPTION:The moment we’ve all been eagerly waiting for has finally arrived — the long-anticipated IBEW Local 24 Electrical Workers Minority Caucus basketball tournament is just around the corner! \nThey are ready to welcome 12 passionate teams on a first-come\, first-served basis\, and they want YOU to be a part of this unforgettable experience! Whether you’re ready to hit the court or cheer from the sidelines\, come and join in! Bring your family\, your friends\, and anyone who shares the love for the game! Let’s create memories together! \nRegister for the tournament today >\nMake sure to register by June 7th. First place team wins a cash prize of $250. Free refreshments and food. If you have any questions\, concerns\, or just need to chat\, don’t hesitate to reach out at EWMC24@gmail.com. This is going to be incredible!\n#IBEW24 #EWMC24 #RENEW24
URL:https://bdcbt.org/event/ibew-basketball-tournament/
LOCATION:Carroll Park\, 500 Washington Blvd.\, Baltimore\, MD\, 21230
ATTACH;FMTTYPE=image/webp:https://bdcbt.org/wp-content/uploads/2025/04/IBEW-Hoops-Tournament-cropped.webp
ORGANIZER;CN="Electrical Workers Minority Caucus":MAILTO:EWMC26@gmail.com
END:VEVENT
BEGIN:VEVENT
DTSTART;TZID=America/New_York:20250614T130000
DTEND;TZID=America/New_York:20250614T160000
DTSTAMP:20260423T070252
CREATED:20250604T175848Z
LAST-MODIFIED:20250604T175848Z
UID:10000309-1749906000-1749916800@bdcbt.org
SUMMARY:Labor Night at the Nationals 2025
DESCRIPTION:Mark your calendar for this annual tradition! Labor Night at the Nationals 2025 will take place this year on Saturday\, June 14. We’ll catch the 1:05 PM game (note updated time!) against the Miami Marlins and raise funds for the Community Services Agency’s Emergency Assistance Fund. \nTickets sales for this year’s event are now open! For groups of 20 people or more\, contact Sig Melius at 202-974-8226 or smeilus@dclabor.org. \nGroups that purchase 50 tickets or more will have their union local name displayed on the jumbotron!
URL:https://bdcbt.org/event/labor-night-at-the-nationals-2025/
ATTACH;FMTTYPE=image/png:https://bdcbt.org/wp-content/uploads/2025/06/LaborNightAttheNatS2.png
END:VEVENT
END:VCALENDAR