BEGIN:VCALENDAR
VERSION:2.0
PRODID:-//Baltimore-DC Metro Building Trades Council - ECPv6.15.20//NONSGML v1.0//EN
CALSCALE:GREGORIAN
METHOD:PUBLISH
X-ORIGINAL-URL:https://bdcbt.org
X-WR-CALDESC:Events for Baltimore-DC Metro Building Trades Council
REFRESH-INTERVAL;VALUE=DURATION:PT1H
X-Robots-Tag:noindex
X-PUBLISHED-TTL:PT1H
BEGIN:VTIMEZONE
TZID:America/New_York
BEGIN:DAYLIGHT
TZOFFSETFROM:-0500
TZOFFSETTO:-0400
TZNAME:EDT
DTSTART:20240310T070000
END:DAYLIGHT
BEGIN:STANDARD
TZOFFSETFROM:-0400
TZOFFSETTO:-0500
TZNAME:EST
DTSTART:20241103T060000
END:STANDARD
BEGIN:DAYLIGHT
TZOFFSETFROM:-0500
TZOFFSETTO:-0400
TZNAME:EDT
DTSTART:20250309T070000
END:DAYLIGHT
BEGIN:STANDARD
TZOFFSETFROM:-0400
TZOFFSETTO:-0500
TZNAME:EST
DTSTART:20251102T060000
END:STANDARD
BEGIN:DAYLIGHT
TZOFFSETFROM:-0500
TZOFFSETTO:-0400
TZNAME:EDT
DTSTART:20260308T070000
END:DAYLIGHT
BEGIN:STANDARD
TZOFFSETFROM:-0400
TZOFFSETTO:-0500
TZNAME:EST
DTSTART:20261101T060000
END:STANDARD
END:VTIMEZONE
BEGIN:VEVENT
DTSTART;TZID=America/New_York:20250608T113000
DTEND;TZID=America/New_York:20250608T140000
DTSTAMP:20260423T070245
CREATED:20250604T173138Z
LAST-MODIFIED:20250604T174752Z
UID:10000308-1749382200-1749391200@bdcbt.org
SUMMARY:March with Labor in World Pride
DESCRIPTION:Pride At Work and the labor movement stand in solidarity with all of our LGBTQIA+ siblings under attack for who we are and who we love across the world and here in the United States. \nWe are building a future together where all of us can live and work with safety\, respect\, and authenticity! \nRSVP at bit.ly/laborworldpride\nFeatured speakers include AFL-CIO President Liz Shuler\, RWDSU President Stuart Appelbaum\, and workers from Starbucks Workers United\, the UAW Kennedy Center campaign\, and more! \nWear your union and Pride At Work shirts\, hats\, buttons\, etc! \nPublic transportation\, comfortable walking shoes\, sunscreen\, and water are strongly recommended. Backpacks and bags are prohibited. Personal items may be carried in a clear plastic bag. \nParking availability and access in downtown D.C. shouldn’t be expected this weekend due to World Pride crowds and street closures\, but if you must drive we suggest trying Colonial Parking. \nPlease note that the Sunday 6/8 March is different from the Saturday 6/7 Parade!
URL:https://bdcbt.org/event/march-with-labor-in-world-pride/
LOCATION:AFL-CIO\, 815 Black Lives Matter Plaza NW\, Washington\, DC\, 20006\, United States
ATTACH;FMTTYPE=image/avif:https://bdcbt.org/wp-content/uploads/2025/06/Final_20250603215636463683.avif
END:VEVENT
END:VCALENDAR