BEGIN:VCALENDAR
VERSION:2.0
PRODID:-//Baltimore-DC Metro Building Trades Council - ECPv6.15.20//NONSGML v1.0//EN
CALSCALE:GREGORIAN
METHOD:PUBLISH
X-WR-CALNAME:Baltimore-DC Metro Building Trades Council
X-ORIGINAL-URL:https://bdcbt.org
X-WR-CALDESC:Events for Baltimore-DC Metro Building Trades Council
REFRESH-INTERVAL;VALUE=DURATION:PT1H
X-Robots-Tag:noindex
X-PUBLISHED-TTL:PT1H
BEGIN:VTIMEZONE
TZID:America/New_York
BEGIN:DAYLIGHT
TZOFFSETFROM:-0500
TZOFFSETTO:-0400
TZNAME:EDT
DTSTART:20240310T070000
END:DAYLIGHT
BEGIN:STANDARD
TZOFFSETFROM:-0400
TZOFFSETTO:-0500
TZNAME:EST
DTSTART:20241103T060000
END:STANDARD
BEGIN:DAYLIGHT
TZOFFSETFROM:-0500
TZOFFSETTO:-0400
TZNAME:EDT
DTSTART:20250309T070000
END:DAYLIGHT
BEGIN:STANDARD
TZOFFSETFROM:-0400
TZOFFSETTO:-0500
TZNAME:EST
DTSTART:20251102T060000
END:STANDARD
BEGIN:DAYLIGHT
TZOFFSETFROM:-0500
TZOFFSETTO:-0400
TZNAME:EDT
DTSTART:20260308T070000
END:DAYLIGHT
BEGIN:STANDARD
TZOFFSETFROM:-0400
TZOFFSETTO:-0500
TZNAME:EST
DTSTART:20261101T060000
END:STANDARD
END:VTIMEZONE
BEGIN:VEVENT
DTSTART;TZID=America/New_York:20250426T090000
DTEND;TZID=America/New_York:20250426T130000
DTSTAMP:20260423T161705
CREATED:20250421T184335Z
LAST-MODIFIED:20250421T184449Z
UID:10000301-1745658000-1745672400@bdcbt.org
SUMMARY:Balitmore Mayor's Spring Clean Up With IBEW 24 EWMC
DESCRIPTION:Join the IBEW 24 Electrical Workers Minority Caucus (EWMC) for Mayor Scott’s Annual Spring Clean Up. Be sure to wear your union gear! \nRSVP TODAY > 
URL:https://bdcbt.org/event/balitmore-mayors-spring-clean-up-with-ibew-24-ewmc/
ATTACH;FMTTYPE=image/webp:https://bdcbt.org/wp-content/uploads/2025/04/Balt-Spring-Cleanup.webp
END:VEVENT
BEGIN:VEVENT
DTSTART;TZID=America/New_York:20250426T160000
DTEND;TZID=America/New_York:20250426T200000
DTSTAMP:20260423T161705
CREATED:20250414T152258Z
LAST-MODIFIED:20250414T162604Z
UID:10000296-1745683200-1745697600@bdcbt.org
SUMMARY:IBEW Poker Tournament
DESCRIPTION:Who’s ready to play poker? Join the IBEW Local 26 Electrical Workers Minority Caucus for their 2nd poker tournament fundraiser on Saturday\, April 26th from 4 – 8 pm at the Local 26 hall in Lanham\, MD. \nPlease send the $65 buy-in via Cash app $MCOMFISHER or Zelle 240-586-9679 by April 18th to reserve your spot. Questions? Email EWMC26@gmail.com. \nAre you all in?
URL:https://bdcbt.org/event/ibew-poker-tournament/
LOCATION:IBEW Local 26 (Manassas)\, 7016 Infantry Ridge Road\, Manassas\, VA\, 20109\, United States
ATTACH;FMTTYPE=image/webp:https://bdcbt.org/wp-content/uploads/2025/04/IBEW-Poker-Tournament-cropped.webp
ORGANIZER;CN="Electrical Workers Minority Caucus":MAILTO:EWMC26@gmail.com
END:VEVENT
BEGIN:VEVENT
DTSTART;TZID=America/New_York:20250426T190000
DTEND;TZID=America/New_York:20250426T220000
DTSTAMP:20260423T161705
CREATED:20250325T210913Z
LAST-MODIFIED:20250325T211351Z
UID:10000284-1745694000-1745704800@bdcbt.org
SUMMARY:Evening With Labor 2025
DESCRIPTION:The Metropolitan Washington Council\, AFL-CIO’s annual celebration of the DC region’s labor movement. Dinner and reception. \nGet tickets >  \nBecome a Sponsor\nSponsorships for this year’s event are available at a variety of levels. Sponsor this event at the level that’s right for you and you will be thanked from the stage\, with signage at the event\, or in the program book. Plus you’ll support a strong and united labor movement in the D.C. region all year long. \nSponsorship information >
URL:https://bdcbt.org/event/evening-with-labor-2025/
LOCATION:Omni Shoreman Hotel\, 2500 Calvert St NW\, Washington\, DC\, 20008
ATTACH;FMTTYPE=image/webp:https://bdcbt.org/wp-content/uploads/2025/03/2025-Evening-with-Labor.webp
END:VEVENT
END:VCALENDAR