BEGIN:VCALENDAR
VERSION:2.0
PRODID:-//Baltimore-DC Metro Building Trades Council - ECPv6.15.20//NONSGML v1.0//EN
CALSCALE:GREGORIAN
METHOD:PUBLISH
X-WR-CALNAME:Baltimore-DC Metro Building Trades Council
X-ORIGINAL-URL:https://bdcbt.org
X-WR-CALDESC:Events for Baltimore-DC Metro Building Trades Council
REFRESH-INTERVAL;VALUE=DURATION:PT1H
X-Robots-Tag:noindex
X-PUBLISHED-TTL:PT1H
BEGIN:VTIMEZONE
TZID:America/New_York
BEGIN:DAYLIGHT
TZOFFSETFROM:-0500
TZOFFSETTO:-0400
TZNAME:EDT
DTSTART:20240310T070000
END:DAYLIGHT
BEGIN:STANDARD
TZOFFSETFROM:-0400
TZOFFSETTO:-0500
TZNAME:EST
DTSTART:20241103T060000
END:STANDARD
BEGIN:DAYLIGHT
TZOFFSETFROM:-0500
TZOFFSETTO:-0400
TZNAME:EDT
DTSTART:20250309T070000
END:DAYLIGHT
BEGIN:STANDARD
TZOFFSETFROM:-0400
TZOFFSETTO:-0500
TZNAME:EST
DTSTART:20251102T060000
END:STANDARD
BEGIN:DAYLIGHT
TZOFFSETFROM:-0500
TZOFFSETTO:-0400
TZNAME:EDT
DTSTART:20260308T070000
END:DAYLIGHT
BEGIN:STANDARD
TZOFFSETFROM:-0400
TZOFFSETTO:-0500
TZNAME:EST
DTSTART:20261101T060000
END:STANDARD
END:VTIMEZONE
BEGIN:VEVENT
DTSTART;TZID=America/New_York:20250405T100000
DTEND;TZID=America/New_York:20250405T113000
DTSTAMP:20260423T161706
CREATED:20250403T171838Z
LAST-MODIFIED:20250403T173553Z
UID:10000292-1743847200-1743852600@bdcbt.org
SUMMARY:Baltimore Mass Mobilization - Hands Off Social Security!
DESCRIPTION:Social Security is facing the greatest threat of its nearly century-long existence. Millions of Americans depend on Social Security to support themselves and their families and it’s the dedicated public servants of the SSA that make it happen. \nThis Saturday members of the American Federation of Government Employees (AFGE)\, the community\,and allies are sending the message to the Trump administration to keep their hands off our Social Security! \nWe have to fight back! \nRSVP today > \nSpeakers include: \n\nConcerned community members\nFormer Social Security Commissioner Martin O’Malley\nPresident AFGE Local 1923 Shelley Washington\n\nWhen we stand together\, we cannot be defeated. \nMeet at 10am 4/5 at this location https://maps.app.goo.gl/11jvE7uFGmDqERT8A \nThe parking lot right off of Robert Meyers Blvd and Security Blvd. \nA core principle behind all Hands Off! events is a commitment to nonviolent action. All participants are expected to seek to de-escalate any potential confrontation with those who disagree with us. \nSee handsoff2025.com for more information.
URL:https://bdcbt.org/event/mass-mobilization-hands-off-social-security/
LOCATION:Baltimore Social Security Administration Headquarters\, 6401 Security Blvd.\, Baltimore\, MD\, 21235
ATTACH;FMTTYPE=image/webp:https://bdcbt.org/wp-content/uploads/2025/04/16x9-Elon_No-Mandate_April-5-Mobilization-1_20250314164612609396-copy.webp
END:VEVENT
BEGIN:VEVENT
DTSTART;TZID=America/New_York:20250405T120000
DTEND;TZID=America/New_York:20250405T153000
DTSTAMP:20260423T161706
CREATED:20250403T173141Z
LAST-MODIFIED:20250403T223818Z
UID:10000293-1743854400-1743867000@bdcbt.org
SUMMARY:Hands Off! Rally in D.C.
DESCRIPTION:This mass mobilization day is a message to the world that we do not consent to the destruction of our government and our economy for the benefit of Donald Trump and his billionaire allies. Alongside Americans across the country\, we will be marching\, rallying\, and protesting to demand a stop the chaos and build an opposition movement against the looting of our country. \nRSVP today > \nA core principle behind all Hands Off! events is a commitment to nonviolent action. All participants are expected to seek to de-escalate any potential confrontation with those who disagree with us. \nSee handsoff2025.com for more information.
URL:https://bdcbt.org/event/hands-off-rally-in-d-c/
LOCATION:Washington Monument\, 2 15th St NW\, Washington\, DC\, 20004
ATTACH;FMTTYPE=image/webp:https://bdcbt.org/wp-content/uploads/2025/04/16x9-Elon_No-Mandate_April-5-Mobilization-1_20250314164612609396-copy.webp
END:VEVENT
END:VCALENDAR